BEGIN:VCALENDAR
VERSION:2.0
PRODID:-//Sabre//Sabre VObject 4.5.8//EN
CALSCALE:GREGORIAN
BEGIN:VEVENT
UID:sabre-vobject-8be43850-4bd4-4952-aed9-08b63d74f738
DTSTAMP:20260424T135118Z
SUMMARY:Sink positiv von Pasta del Amore
DESCRIPTION:Sie sitzen fest im Sattel – nicht auf – aber im Rössli und
  wissen ganz genau\, was Sache ist. Trotz Informationstsunami\, welcher re
 gelmässig überschnappt und auch ihnen den Boden unter den Füssen wegzus
 pülen droht\, bleiben sie optimistisch.\nZusammen mit ihren Bühnenfigure
 n versuchen ‚Pasta del Amore‘ sich zu orientieren und stolpern dabei 
 über die grossen Fragen des Lebens. Sie hauen absurde Meinungen raus\, ve
 rzaubern mit humoristischen Zeichnungen und nerven mit Lovespreading.\nMit
 tels feinsinniger\, humoristischer Episoden gewähren ‚Pasta del Amore
 ‘ Einblicke in die Gefühlswelt ihrer exakt beobachteten Figuren und sch
 affen eine Umgebung\, in der sie auf komödiantische Art scheitern. Und da
 s Publikum schaut zu und lacht. Weil es sich selbst wiedererkennt. Und wei
 l es guttut\, den anderen dabei zuzusehen.\nRegie: Menf Rhyner\\nLichtkonz
 ept &amp\; Tongebastel: Orhan Gül\\nKostüm: Susanne Boner\\nHelping Song
 writinging Hand: Frank Widmer
LOCATION:Kellerbühne Grünfels\, Werkstrasse 15\, 8645 Jona
DTSTART;TZID=Europe/Zurich:20260425T200000
DTEND;TZID=Europe/Zurich:20260425T200000
ORGANIZER:Kellerbühne Grünfels
END:VEVENT
END:VCALENDAR
