BEGIN:VCALENDAR
VERSION:2.0
PRODID:-//Sabre//Sabre VObject 4.5.8//EN
CALSCALE:GREGORIAN
BEGIN:VEVENT
UID:sabre-vobject-85692615-0d6a-4a9f-84ec-3647169a43ef
DTSTAMP:20260423T132914Z
SUMMARY:«Jazz Tube» - New Orleans Jazz\, Blues & Dixieland
DESCRIPTION:Gegründet wurde die Formation Jazz Tube 1991 und verfügt mitt
 lerweile über eine grosse Konzerterfahrung in der ganzen Schweiz. Die sie
 ben Musiker vermögen mit ihren klangvollen Tutti\, den spritzigkreativen 
 Soli und ihrem Showtalent das Publikum in ihren Bann zu ziehen.
LOCATION:Kulturtreff Rotfarb\, Rotfarb 15\, 8730 Uznach
DTSTART;TZID=Europe/Zurich:20260425T203000
DTEND;TZID=Europe/Zurich:20260425T230000
ORGANIZER:Kulturtreff Rotfarb
END:VEVENT
END:VCALENDAR
