BEGIN:VCALENDAR
VERSION:2.0
PRODID:-//Sabre//Sabre VObject 4.5.8//EN
CALSCALE:GREGORIAN
BEGIN:VEVENT
UID:sabre-vobject-26b80553-3c05-4d47-bfdd-37763e059f50
DTSTAMP:20260423T082445Z
SUMMARY:WortWechsel – Frédéric Zwicker und Michael Rüttimann
DESCRIPTION:Das neue Talk-Format WortWechsel\, das die Stadtbibliothek geme
 insam mit der Gebert Stiftung für Kultur verantwortet\, holt Bewohner/-in
 nen der Stadt Rapperswil-Jona auf die Bühne. Die beiden Moderator/-innen 
 Daniela Huwyler und Frédéric Zwicker laden abwechslungsweise je einen Ga
 st ein. \\nDer Geigenbauer Michael Rüttimann spricht mit dem Geiger Fréd
 éric Zwicker über die Faszina¬tion eines jahrhundertealten Handwerks un
 d über die besondere Magie von Streichinstrumenten.
LOCATION:* ALTEFABRIK\, Klaus-Gebert-Strasse 5\, 8640 Rapperswil-Jona
DTSTART;TZID=Europe/Zurich:20260423T193000
DTEND;TZID=Europe/Zurich:20260423T210000
ORGANIZER:Koproduktion Gebert-Stiftung für Kultur und Stadtbibliothek Rapp
 erswil-Jona
END:VEVENT
END:VCALENDAR
