BEGIN:VCALENDAR
VERSION:2.0
PRODID:-//Sabre//Sabre VObject 4.5.8//EN
CALSCALE:GREGORIAN
BEGIN:VEVENT
UID:sabre-vobject-728405bf-6693-4dfe-ad1d-aec2c5ac28a0
DTSTAMP:20260424T134300Z
SUMMARY:Frühlingsfest
DESCRIPTION:Es werden diverse sportliche\, actionreiche\, lustige\, spannen
 de und aktive Unterhaltungen und Attraktionen angeboten. Zudem stehen eini
 ge Verpflegungsstände auf dem ganzen Areal\, welche euch mit ihren Lecker
 eien gerne verpflegen.
LOCATION:Schulareal Gommiswald\, 8737 Gommiswald
DTSTART;TZID=Europe/Zurich:20260425T100000
DTEND;TZID=Europe/Zurich:20260425T160000
ORGANIZER:Kulturrat Gommiswald
END:VEVENT
END:VCALENDAR
