BEGIN:VCALENDAR
VERSION:2.0
PRODID:-//Sabre//Sabre VObject 4.5.8//EN
CALSCALE:GREGORIAN
BEGIN:VEVENT
UID:sabre-vobject-c701622b-1c9d-48d5-845d-c0557da9b53e
DTSTAMP:20260423T132715Z
SUMMARY:Erlebnis Goldloch – Führung mit regionalen Probiererli
DESCRIPTION:Der Weg dorthin ist lehmig und kann schmutzig sein.\nUnser erfa
 hrener und kreativer Führer Fredy Dietziker zeigt dir einen wenig bekannt
 en Teil des Tals. Geniesse eine kurze Auszeit in dieser besonderen Naturku
 lisse. Die Führung bietet spannende Einblicke\, Überraschungen und regio
 nale Probiererli.\nDurchführung bei jedem Wetter. Wetterfeste Kleidung un
 d gutes Schuhwerk sind erforderlich. Für Menschen mit Platzangst ist das 
 Goldloch nicht geeignet. Kinder ab 7 Jahren nur in Begleitung von Erwachse
 nen. Gehzeit vom Parkplatz Chamm in Hintergoldingen beträgt ca. 20–30 M
 inuten. Es ist mit schmutzigen Schuhen und Kleidern zu rechnen.\nMitbringe
 n: gute Schuhe\, alte Kleidung\, Stirn- oder Taschenlampe sowie gute körp
 erliche Verfassung. \\nDurchführung nur bei genügend Teilnehmenden.
LOCATION:Goldingertal\, 8638 Goldingen
DTSTART;TZID=Europe/Zurich:20260424T180000
DTEND;TZID=Europe/Zurich:20260424T200000
ORGANIZER:Verein Goldingertal Eschenbach
END:VEVENT
END:VCALENDAR
