BEGIN:VCALENDAR
VERSION:2.0
PRODID:-//Sabre//Sabre VObject 4.5.8//EN
CALSCALE:GREGORIAN
BEGIN:VEVENT
UID:sabre-vobject-f61d8589-0b41-4a1f-88e9-7adbfc3f7fb4
DTSTAMP:20260422T135833Z
SUMMARY:Eliane
DESCRIPTION:Die charismatische Sängerin aus dem Herzen der Schweiz ist bek
 annt für ihre berührende Stimme und authentischen Auftritte. Nach einer 
 längeren Pause meldet sich die sympathische Musikerin mit frischer Energi
 e\, neuen Songs und ihrer kompletten Band zurück.\nWährend ihrer kreativ
 en Schaffenspause gönnte sich Eliane auch eine ganz besondere Auszeit: Mu
 tterschaftsurlaub. Diese persönliche und inspirierende Zeit hat nicht nur
  ihr Leben\, sondern auch ihre Musik bereichert.\nDas Publikum erwartet ei
 n musikalisches Feuerwerk – feinfühlige Balladen\, kraftvolle Popsounds
  und neue Klangwelten\, wie man sie von Eliane kennt und liebt. Mit ihrer 
 eingespielten Live-Band bringt sie ihre Musik so intensiv wie nie zuvor au
 f die Bühne – authentisch\, ehrlich und voller Herz. Musik\, die verbin
 det. Emotionen\, die bleiben. Zu erleben am Donnerstag\, 23. April 2026\, 
 20 Uhr im Kreuz Jona und am Samstag\, 25. April 2026\, 20 Uhr im Kurtheate
 r Baden.
LOCATION:Kreuz-Jona Stadtsaal\, St. Gallerstrasse 30\, 8645 Jona
DTSTART;TZID=Europe/Zurich:20260423T200000
DTEND;TZID=Europe/Zurich:20260423T213000
ORGANIZER:domino Event SARL
END:VEVENT
END:VCALENDAR
