BEGIN:VCALENDAR
VERSION:2.0
PRODID:-//Sabre//Sabre VObject 4.5.8//EN
CALSCALE:GREGORIAN
BEGIN:VEVENT
UID:sabre-vobject-d3a492c3-cab9-4253-8570-3b676d4526e5
DTSTAMP:20260425T135023Z
SUMMARY:Kindervernissage «wohin – woher – womit»
DESCRIPTION:Für Kinder von 5–15 Jahren. Wir begeben uns auf eine Entdeck
 ungstour durch die neue Sammlungsausstellung «wohin – woher – womit»
  und werden im Anschluss im Atelier selbst kreativ. Mit artefix kultur un
 d schule auf Deutsch\, Kurdisch\, Spanisch und Ukrainisch.\nTreffpunkt um
  11.30 Uhr beim Eingang des Kunst(Zeug)Haus.\nDie Kindervernissage findet 
 parallel zur öffentlichen Vernissage für Erwachsene statt. Die Kinder be
 suchen die Kindervernissage ohne Begleitung von Erwachsenen. Die Kinder k
 önnen von 12.30 bis 13.00 Uhr im Atelier des Kunst(Zeug)Haus abgeholt wer
 den (Tor 13 im Osten des Gebäudes).\n 
LOCATION:Kunst(Zeug)Haus\, Schönbodenstrasse 1\, 8640 Rapperswil-Jona
DTSTART;TZID=Europe/Zurich:20260426T113000
DTEND;TZID=Europe/Zurich:20260426T113000
ORGANIZER:Kunst(Zeug)Haus
END:VEVENT
END:VCALENDAR
