BEGIN:VCALENDAR
VERSION:2.0
PRODID:-//Sabre//Sabre VObject 4.5.8//EN
CALSCALE:GREGORIAN
BEGIN:VEVENT
UID:sabre-vobject-9c997351-a494-4d0f-89fb-7688be9fc3bb
DTSTAMP:20260420T133458Z
SUMMARY:Kunst & Stift. Ein Workshop für Erwachsene
DESCRIPTION:Zeichnend durch die Ausstellung. Mit artefix kultur und schule
  – Tatiana Witte\, Künstlerin. Im Workshop für Erwachsene tauchen wir
  mit der Künstlerin Tatiana Witte in ein besonderes Erleben der Einzelaus
 stellung von Margaretha Dubach ein: Wir halten inne und versuchen\, unse
 re Wahrnehmungen mit dem Stift aufs Papier zu bringen. Dabei geht es nicht
  um ein präzises Abbilden\, sondern darum\, das Gesehene in die Bewegung 
 des Zeichnens zu übertragen. Auf dieser persönlichen Entdeckungsreise gi
 bt Tatiana Witte vielfältige Inputs zur Betrachtung der Werke. Es sind ke
 ine Kenntnisse erforderlich.\nIn Zusammenarbeit mit Hallo Kultur!
LOCATION:Kunst(Zeug)Haus\, Schönbodenstrasse 1\, 8640 Rapperswil-Jona
DTSTART;TZID=Europe/Zurich:20260429T183000
DTEND;TZID=Europe/Zurich:20260429T203000
ORGANIZER:Kunst(Zeug)Haus
END:VEVENT
END:VCALENDAR
