BEGIN:VCALENDAR
VERSION:2.0
PRODID:-//Sabre//Sabre VObject 4.5.8//EN
CALSCALE:GREGORIAN
BEGIN:VEVENT
UID:sabre-vobject-4777224c-5861-493b-8705-f49a5e1d878d
DTSTAMP:20260420T092746Z
SUMMARY:Walk & Talk mit Margaretha Dubach
DESCRIPTION:Im Gespräch mit der Künstlerin spazieren die Co-Direktorinnen
  Céline Gaillard und Simone Kobler durch die Ausstellung «Zauberwelten e
 rwachen». Gleichzeitig wird das Buch «Geschichten und Bilder aus dem Vor
 deren Florhof» präsentiert. Margaretha Dubach liest daraus sonderbare Ge
 schichten aus dem alten Zürich. Hören Sie Erzählungen zu den gezeigten 
 Werken in der Ausstellung und erfahren Sie\, was sich in Zürich um 1680 a
 lles Sonderbares ereignet hat.
LOCATION:Kunst(Zeug)Haus\, Schönbodenstrasse 1\, 8640 Rapperswil-Jona
DTSTART;TZID=Europe/Zurich:20260510T113000
DTEND;TZID=Europe/Zurich:20260510T113000
ORGANIZER:Kunst(Zeug)Haus
END:VEVENT
END:VCALENDAR
